BEGIN:VCALENDAR
VERSION:2.0
PRODID:-//Corps et Conscience - ECPv6.6.4.2//NONSGML v1.0//EN
CALSCALE:GREGORIAN
METHOD:PUBLISH
X-ORIGINAL-URL:https://corpsetconscience.life
X-WR-CALDESC:évènements pour Corps et Conscience
REFRESH-INTERVAL;VALUE=DURATION:PT1H
X-Robots-Tag:noindex
X-PUBLISHED-TTL:PT1H
BEGIN:VTIMEZONE
TZID:Europe/Paris
BEGIN:DAYLIGHT
TZOFFSETFROM:+0100
TZOFFSETTO:+0200
TZNAME:CEST
DTSTART:20240331T010000
END:DAYLIGHT
BEGIN:STANDARD
TZOFFSETFROM:+0200
TZOFFSETTO:+0100
TZNAME:CET
DTSTART:20241027T010000
END:STANDARD
END:VTIMEZONE
BEGIN:VEVENT
DTSTART;TZID=Europe/Paris:20241025T190000
DTEND;TZID=Europe/Paris:20241025T213000
DTSTAMP:20260422T061009
CREATED:20240904T141727Z
LAST-MODIFIED:20240923T135809Z
UID:959-1729882800-1729891800@corpsetconscience.life
SUMMARY:CYCLE MBSR – MÉDITATION PLEINE CONSCIENCE
DESCRIPTION:CYCLE MBSR – MÉDITATION PLEINE CONSCIENCE \nCréé en 1979 par Jon Kabat-Zinn au sein de la Faculté de Médecine du Massachusetts\, le programme Mindulness-Based Stress Reduction (MBSR) est un programme structuré qui tire ses influences de deux grands courants : celui des traditions méditatives orientales (pratique bouddhiste de vipassana et yoga) et celui de la science occidentale (médecine et psychologie). \nCe programme constitue une approche éducative qui vise\, par un apprentissage expérientiel\, à développer l’aptitude à répondre plus efficacement au stress\, à la douleur et à la maladie en invitant les participants à se relier à leurs ressources internes. \nLes participants apprennent à reconnaître leurs réactions habituelles aux difficultés et à adopter une attitude d’acceptation et de non jugement envers toute expérience\, y compris les sensations\, pensées\, émotions ou comportements difficiles. \nLe programme repose sur un entraînement régulier à la méditation de Pleine Conscience et sur son intégration dans la vie de tous les jours. \nLes participants développent leur capacité à prendre soin d’eux et à trouver une meilleure qualité de vie. \nA qui s’adresse la MBSR ? \nTout en ayant des effets thérapeutiques\, c’est avant tout un programme préventif et éducatif qui s’adresse à toute personne souhaitant améliorer sa manière de vivre. \nCe programme est reconnu par la communauté médicale internationale comme soutien effectif dans un certain nombre de troubles\, comme : le stress\, la gestion des émotions\, le stress post-traumatique\, l’anxiété\, l’insomnie\, la douleur\, les maladies chroniques\, le burn-out. \nIl peut aider en cas d’asthme\, maladie de peau (psoriasis)\, syndrome du côlon irritable\, fatigue chronique\, addictions\, troubles alimentaires\, hypertension\, maladies cardiaques. \nFred Thery vous propose de le retrouver à l’Espace Corps et Conscience pour participer au prochain cycle de réduction du stress basée sur la pleine conscience (MBSR) afin de vous accompagner dans une meilleure gestion de votre stress et de vos émotions. \nLe prochain cycle MBSR\, en 8 semaines commencera le 25 octobre à raison d’un rdv hebdomadaire le vendredi de 19h à 21h30 et d’une journée complète le 1er décembre\, ainsi qu’une pratique régulière à domicile. \nUne séance gratuite d’information sera organisée le 11 octobre de 19h à 20h. \nInscriptions et renseignements ici: \nwww.emergences.org \n 
URL:https://corpsetconscience.life/activite/cycle-mbsr-meditation-pleine-conscience/
LOCATION:Espace Corps et Conscience\, Rue Julien d'Andrimont 1/3\, Liège\, 4000\, Belgique
ATTACH;FMTTYPE=image/jpeg:https://corpsetconscience.life/wp-content/uploads/2024/09/MBSR-octobre-24.jpg
END:VEVENT
END:VCALENDAR